BEGIN:VCALENDAR
VERSION:2.0
PRODID:-//Michigan City-Lakeshore - ECPv6.15.20//NONSGML v1.0//EN
CALSCALE:GREGORIAN
METHOD:PUBLISH
X-WR-CALNAME:Michigan City-Lakeshore
X-ORIGINAL-URL:https://michcity-lakeshore.cisvusa.org
X-WR-CALDESC:Events for Michigan City-Lakeshore
REFRESH-INTERVAL;VALUE=DURATION:PT1H
X-Robots-Tag:noindex
X-PUBLISHED-TTL:PT1H
BEGIN:VTIMEZONE
TZID:America/Chicago
BEGIN:DAYLIGHT
TZOFFSETFROM:-0600
TZOFFSETTO:-0500
TZNAME:CDT
DTSTART:20220313T080000
END:DAYLIGHT
BEGIN:STANDARD
TZOFFSETFROM:-0500
TZOFFSETTO:-0600
TZNAME:CST
DTSTART:20221106T070000
END:STANDARD
BEGIN:DAYLIGHT
TZOFFSETFROM:-0600
TZOFFSETTO:-0500
TZNAME:CDT
DTSTART:20230312T080000
END:DAYLIGHT
BEGIN:STANDARD
TZOFFSETFROM:-0500
TZOFFSETTO:-0600
TZNAME:CST
DTSTART:20231105T070000
END:STANDARD
BEGIN:DAYLIGHT
TZOFFSETFROM:-0600
TZOFFSETTO:-0500
TZNAME:CDT
DTSTART:20240310T080000
END:DAYLIGHT
BEGIN:STANDARD
TZOFFSETFROM:-0500
TZOFFSETTO:-0600
TZNAME:CST
DTSTART:20241103T070000
END:STANDARD
END:VTIMEZONE
BEGIN:VEVENT
DTSTART;TZID=America/Chicago:20230212T133000
DTEND;TZID=America/Chicago:20230212T153000
DTSTAMP:20260420T012503
CREATED:20211209T183315Z
LAST-MODIFIED:20230225T192828Z
UID:5777-1676208600-1676215800@michcity-lakeshore.cisvusa.org
SUMMARY:Delegation Meetings
DESCRIPTION:Delegation Meeting \n@ Barker Middle School. \n  \nIf you are selected for a program in our Summer 2023\, you are required to attend the Delegation Meetings
URL:https://michcity-lakeshore.cisvusa.org/event/selection/2023-02-12/
LOCATION:Barker Middle School
END:VEVENT
BEGIN:VEVENT
DTSTART;TZID=America/Chicago:20230129T150000
DTEND;TZID=America/Chicago:20230129T170000
DTSTAMP:20260420T012503
CREATED:20230109T160837Z
LAST-MODIFIED:20230109T160837Z
UID:5882-1675004400-1675011600@michcity-lakeshore.cisvusa.org
SUMMARY:Selection Day Summer Programs
DESCRIPTION:Summer Programs Selection Day\nPlease complete the for before the Selection Day. \nhttps://michcity-lakeshore.cisvusa.org/wp-content/uploads/sites/28/2022/12/CISV-Michigan-City-Lakeshore-Summer-2023.pdf \n  \nPlease print the first 2 pages and Select the order of preference for the programs taking in consideration the YEAR your child was born (not the age they will be during the camp)\, select the option of payment and finally\, pick 5 dates that you can chaperone the dances (on the back of the page). \nOnce this is done make sure you sign the document and send a copy back to the chapter email:\nmichigancity-lakeshore@cisvusa.org
URL:https://michcity-lakeshore.cisvusa.org/event/selection-day-summer-programs/
LOCATION:Barker Middle School
END:VEVENT
END:VCALENDAR