BEGIN:VCALENDAR
VERSION:2.0
PRODID:-//Michigan City-Lakeshore - ECPv6.15.20//NONSGML v1.0//EN
CALSCALE:GREGORIAN
METHOD:PUBLISH
X-WR-CALNAME:Michigan City-Lakeshore
X-ORIGINAL-URL:https://michcity-lakeshore.cisvusa.org
X-WR-CALDESC:Events for Michigan City-Lakeshore
REFRESH-INTERVAL;VALUE=DURATION:PT1H
X-Robots-Tag:noindex
X-PUBLISHED-TTL:PT1H
BEGIN:VTIMEZONE
TZID:America/Chicago
BEGIN:DAYLIGHT
TZOFFSETFROM:-0600
TZOFFSETTO:-0500
TZNAME:CDT
DTSTART:20250309T080000
END:DAYLIGHT
BEGIN:STANDARD
TZOFFSETFROM:-0500
TZOFFSETTO:-0600
TZNAME:CST
DTSTART:20251102T070000
END:STANDARD
BEGIN:DAYLIGHT
TZOFFSETFROM:-0600
TZOFFSETTO:-0500
TZNAME:CDT
DTSTART:20260308T080000
END:DAYLIGHT
BEGIN:STANDARD
TZOFFSETFROM:-0500
TZOFFSETTO:-0600
TZNAME:CST
DTSTART:20261101T070000
END:STANDARD
BEGIN:DAYLIGHT
TZOFFSETFROM:-0600
TZOFFSETTO:-0500
TZNAME:CDT
DTSTART:20270314T080000
END:DAYLIGHT
BEGIN:STANDARD
TZOFFSETFROM:-0500
TZOFFSETTO:-0600
TZNAME:CST
DTSTART:20271107T070000
END:STANDARD
END:VTIMEZONE
BEGIN:VEVENT
DTSTART;TZID=America/Chicago:20260228T130000
DTEND;TZID=America/Chicago:20260228T150000
DTSTAMP:20260419T211801
CREATED:20260308T170342Z
LAST-MODIFIED:20260308T170628Z
UID:6062-1772283600-1772290800@michcity-lakeshore.cisvusa.org
SUMMARY:Parent Information Meeting for 2026 Delegations
DESCRIPTION:We will be hosting a Parent Informational Meeting and Delegation Day on Saturday\, February 28\, from 1:00–3:00 PM CST in Portage\, Indiana. Location details were sent out by email earlier this week. \nDuring the meeting\, parent information packets will be distributed\, and our team will be available to answer any questions from both new and returning CISV families. This is also a great opportunity for delegates to meet their leader and connect with the rest of their delegation as they begin preparing for their upcoming program. \nAs a reminder\, the initial travel payment is also due on this date. \nWe look forward to seeing everyone there and kicking off an exciting CISV experience together!
URL:https://michcity-lakeshore.cisvusa.org/event/parent-information-meeting-for-2026-delegations/
ATTACH;FMTTYPE=image/jpeg:https://michcity-lakeshore.cisvusa.org/wp-content/uploads/sites/28/2026/03/travel-holidays-background-colorful-style-cute-hand-drawn-travel-icons-isolated-objects-on-white-background-2HYMD2Y-1.jpg
END:VEVENT
END:VCALENDAR