BEGIN:VCALENDAR
VERSION:2.0
PRODID:-//Michigan City-Lakeshore - ECPv6.15.20//NONSGML v1.0//EN
CALSCALE:GREGORIAN
METHOD:PUBLISH
X-WR-CALNAME:Michigan City-Lakeshore
X-ORIGINAL-URL:https://michcity-lakeshore.cisvusa.org
X-WR-CALDESC:Events for Michigan City-Lakeshore
REFRESH-INTERVAL;VALUE=DURATION:PT1H
X-Robots-Tag:noindex
X-PUBLISHED-TTL:PT1H
BEGIN:VTIMEZONE
TZID:America/Chicago
BEGIN:DAYLIGHT
TZOFFSETFROM:-0600
TZOFFSETTO:-0500
TZNAME:CDT
DTSTART:20250309T080000
END:DAYLIGHT
BEGIN:STANDARD
TZOFFSETFROM:-0500
TZOFFSETTO:-0600
TZNAME:CST
DTSTART:20251102T070000
END:STANDARD
BEGIN:DAYLIGHT
TZOFFSETFROM:-0600
TZOFFSETTO:-0500
TZNAME:CDT
DTSTART:20260308T080000
END:DAYLIGHT
BEGIN:STANDARD
TZOFFSETFROM:-0500
TZOFFSETTO:-0600
TZNAME:CST
DTSTART:20261101T070000
END:STANDARD
BEGIN:DAYLIGHT
TZOFFSETFROM:-0600
TZOFFSETTO:-0500
TZNAME:CDT
DTSTART:20270314T080000
END:DAYLIGHT
BEGIN:STANDARD
TZOFFSETFROM:-0500
TZOFFSETTO:-0600
TZNAME:CST
DTSTART:20271107T070000
END:STANDARD
END:VTIMEZONE
BEGIN:VEVENT
DTSTART;TZID=America/Chicago:20260307T140000
DTEND;TZID=America/Chicago:20260307T170000
DTSTAMP:20260420T025052
CREATED:20260308T164710Z
LAST-MODIFIED:20260308T164711Z
UID:6056-1772892000-1772902800@michcity-lakeshore.cisvusa.org
SUMMARY:CISV Michigan City Lakeshore Celebrating 75 Years of CISV and Global Friendship
DESCRIPTION:This year marks a remarkable milestone for CISV International as the organization celebrates its 75th anniversary of building global friendship and peace through youth exchange and education. To honor the occasion\, our local chapter\, CISV Michigan City Lakeshore\, is hosting a special celebration that brings together past and present participants\, families\, and volunteers to reconnect and reflect on decades of shared experiences. \nFounded in 1950 by child psychologist Doris Twitchell Allen\, CISV was built on the idea that friendships formed between young people from different cultures can help create a more peaceful world. Over the past seven decades\, the organization has grown into a global network spanning nearly 70 countries\, with programs that bring together children and youth to learn about leadership\, cooperation\, and intercultural understanding. \nThe anniversary event hosted by CISV Michigan City Lakeshore highlights a powerful theme: global friendship throughout a lifetime. Former campers who first participated as children will gather alongside today’s youth delegates\, junior counselors\, and volunteers demonstrating how the connections formed through CISV can last for generations. \nCISV is unique because it doesn’t just create a two- or three-week experience. It creates friendships that last decades. At this celebration\, we’ll see alumni who attended programs years ago standing next to the next generation of participants preparing for their first international experience. \nThe event will feature story sharing\, photos from past programs\, and opportunities for alumni and current members to reconnect. Many attendees will reunite with friends they met through international programs\, while new participants will get a glimpse of the lifelong community that CISV creates. \nAs CISV International celebrates 75 years\, the CISV Michigan City Lakeshore chapter hopes the event will not only honor the past but also inspire future participants to continue building bridges across cultures. \nCISV shows young people that the world is bigger than their hometown. Seventy-five years later\, we’re still proving that friendship across borders can shape lives and help build a more peaceful future. \nAbout CISV Michigan City Lakeshore:\nCISV Michigan City Lakeshore is part of the global network of CISV International\, offering educational programs and international exchanges that empower young people to become active global citizens through friendship and experiential learning.
URL:https://michcity-lakeshore.cisvusa.org/event/cisv-michigan-city-lakeshore-celebrating-75-years-of-cisv-and-global-friendship/
ATTACH;FMTTYPE=image/jpeg:https://michcity-lakeshore.cisvusa.org/wp-content/uploads/sites/28/2026/03/619389849_10162535161706325_2058673003605275237_n.jpg
END:VEVENT
END:VCALENDAR