BEGIN:VCALENDAR
VERSION:2.0
PRODID:-//Michigan City-Lakeshore - ECPv6.15.20//NONSGML v1.0//EN
CALSCALE:GREGORIAN
METHOD:PUBLISH
X-WR-CALNAME:Michigan City-Lakeshore
X-ORIGINAL-URL:https://michcity-lakeshore.cisvusa.org
X-WR-CALDESC:Events for Michigan City-Lakeshore
REFRESH-INTERVAL;VALUE=DURATION:PT1H
X-Robots-Tag:noindex
X-PUBLISHED-TTL:PT1H
BEGIN:VTIMEZONE
TZID:America/Chicago
BEGIN:DAYLIGHT
TZOFFSETFROM:-0600
TZOFFSETTO:-0500
TZNAME:CDT
DTSTART:20220313T080000
END:DAYLIGHT
BEGIN:STANDARD
TZOFFSETFROM:-0500
TZOFFSETTO:-0600
TZNAME:CST
DTSTART:20221106T070000
END:STANDARD
BEGIN:DAYLIGHT
TZOFFSETFROM:-0600
TZOFFSETTO:-0500
TZNAME:CDT
DTSTART:20230312T080000
END:DAYLIGHT
BEGIN:STANDARD
TZOFFSETFROM:-0500
TZOFFSETTO:-0600
TZNAME:CST
DTSTART:20231105T070000
END:STANDARD
BEGIN:DAYLIGHT
TZOFFSETFROM:-0600
TZOFFSETTO:-0500
TZNAME:CDT
DTSTART:20240310T080000
END:DAYLIGHT
BEGIN:STANDARD
TZOFFSETFROM:-0500
TZOFFSETTO:-0600
TZNAME:CST
DTSTART:20241103T070000
END:STANDARD
END:VTIMEZONE
BEGIN:VEVENT
DTSTART;TZID=America/Chicago:20230113T190000
DTEND;TZID=America/Chicago:20230113T210000
DTSTAMP:20260422T191248
CREATED:20230109T161407Z
LAST-MODIFIED:20230206T032800Z
UID:5884-1673636400-1673643600@michcity-lakeshore.cisvusa.org
SUMMARY:CISV Dances
DESCRIPTION:CISV Elementary School Dance \n@ Edgewood Elementary School \n7pm to 9pm \n$5\,00 \nSchool rules apply
URL:https://michcity-lakeshore.cisvusa.org/event/cisv-dances/2023-01-13/
LOCATION:TBA
END:VEVENT
END:VCALENDAR